BEGIN:VCALENDAR
VERSION:2.0
PRODID:Events Booking
BEGIN:VEVENT
UID:69e59669c5987
SUMMARY:WORKSHOP CLIMBING INJURIES Euskalduna Bilbao 6 Dic 9:30
DESCRIPTION:CLIMBING INJURIES. Symptoms\, treatment and prevention 
 ANDO
 NI ORMAZABAL
 Larunbata abenduak 6 – 9:30-11:30 Euskalduna Bilbao
 Thi
 s talk addresses the most common injuries in climbing from an informative 
 and entertaining perspective. It lasts 2 hours and includes some practical
  demonstrations of bandaging and specific exercises. 
 Andoni OrmazabalH
 e is a physiotherapist with a master's degree in sports physiotherapy\, os
 teopathy and traditional Chinese medicine. He has more than 25 years of cl
 inical experience\, the last 20 of which have focused on specific injuries
  caused by climbing and mountaineering. He is a physiotherapist for the EM
 F (Basque Mountain Federation) and FEDME (Spanish Mountain and Mountaineer
 ing Federation). He has given many training courses to climbing and mounta
 ineering teams\, as well as to physiotherapists\, and has taken part in co
 nferences and other types of training as a speaker.
 
 ESKALADA LESIOAK.
  Sintomak\, tratamendua eta prebentzioa
LOCATION:Abandoibarra Etorb.\, 4\, 48011 Bilbo\, Bizkaia\, España
DTSTART:20251206T083000Z
DTEND:20251206T103000Z
DTSTAMP:20251027T070728Z
ORGANIZER;CN=BBK Mendi Film Bilbao Bizkaia:MAILTO:organization@mendifilmfes
 tival.com
GEO:43.266915;-2.944521
X-APPLE-STRUCTURED-LOCATION;VALUE=URI;X-ADDRESS=Abandoibarra Etorb.\, 4\, 4
 8011 Bilbo\, Bizkaia\, España;X-APPLE-RADIUS=72;X-TITLE=Euskalduna Jaureg
 ia:43.266915;-2.944521
END:VEVENT
END:VCALENDAR