BEGIN:VCALENDAR
VERSION:2.0
PRODID:Events Booking
BEGIN:VEVENT
UID:69e5966029aa0
SUMMARY:WORKSHOP HIGHLANDER CUFFLINK-MAKING Euskalduna Bilbao 6 Dic 9:30
DESCRIPTION:HIGHLANDER CUFFLINK-MAKING. Inspired by the Culture and Folklor
 e of Podhale (Poland)
 Saturday December 6 – 9:30-11:30 Euskalduna Bilb
 ao
 Cufflinks (spinki) are an essential part of a highlander man’s atti
 re—metal fasteners used to secure shirts\, rich in history and cultural 
 significance.In this hands-on workshop\, participants will have the unique
  opportunity to craft their very own cufflink\, guided by traditional tech
 niques and inspired by local folklore of Podhale\, the southernmost region
  of Poland\, located in the foothills of the Tatra Mountains.Partners: Men
 di Film and EMMOAProject co-financed by the Ministry of Culture and Nation
 al Heritage of Poland within the framework of the Inspiring Culture Progra
 mme.•    Open to adults and young people•    Limited to 10 partici
 pants
 
 
LOCATION:Abandoibarra Etorb.\, 4\, 48011 Bilbo\, Bizkaia\, España
DTSTART:20251206T083000Z
DTEND:20251206T103000Z
DTSTAMP:20251027T065955Z
ORGANIZER;CN=BBK Mendi Film Bilbao Bizkaia:MAILTO:organization@mendifilmfes
 tival.com
GEO:43.266915;-2.944521
X-APPLE-STRUCTURED-LOCATION;VALUE=URI;X-ADDRESS=Abandoibarra Etorb.\, 4\, 4
 8011 Bilbo\, Bizkaia\, España;X-APPLE-RADIUS=72;X-TITLE=Euskalduna Jaureg
 ia:43.266915;-2.944521
END:VEVENT
END:VCALENDAR