BEGIN:VCALENDAR
VERSION:2.0
PRODID:Events Booking
BEGIN:VEVENT
UID:69e597d6986f1
SUMMARY:WORKSHOP MOUNTAINS OF COLOURS Euskalduna Bilbao 7 Dic 10:00
DESCRIPTION:MOUNTAINS OF COLOURS
 LAURA ARANEGUI GAVIRIA
 Sunday December
  7 and Sunday December 14 – 10:00-11:45 Euskalduna Bilbao
 In this art 
 workshop for\, the younger Mountain Lovers or 'Mendi Zales'\, you will cre
 ate your own mountain landscape using coloured card\, cutting\, sticking a
 nd drawing. We will play with shapes\, colours and composition to build mo
 untains\, skies\, rivers\, forests and other natural elements\, bringing t
 o life scenes inspired by the world of mountains. Through collage and draw
 ing\, each participant will explore their creativity with complete freedom
 \, experimenting with materials and creating their own work to take home. 
  •    Group of 10-12 participants •    Ages 6 and up Laura Aran
 egui Gaviria (Vitoria-Gasteiz 1999) Also known as “Laura Blue”\, she i
 s an artist and illustrator with a degree in Creation and Design from the 
 University of the Basque Country (UPV/EHU)\, with a specialisation in Illu
 stration. She later completed a Master's Degree in Digital Illustration an
 d Concept Art at the Pixels Centre in Bilbao. She currently combines her w
 ork as a freelance illustrator with a Master's Degree in Teacher Training\
 , focusing part of her artistic practice on educational contexts.  
 
LOCATION:Abandoibarra Etorb.\, 4\, 48011 Bilbo\, Bizkaia\, España
DTSTART:20251207T090000Z
DTEND:20251207T104500Z
DTSTAMP:20251027T071244Z
ORGANIZER;CN=BBK Mendi Film Bilbao Bizkaia:MAILTO:organization@mendifilmfes
 tival.com
GEO:43.266915;-2.944521
X-APPLE-STRUCTURED-LOCATION;VALUE=URI;X-ADDRESS=Abandoibarra Etorb.\, 4\, 4
 8011 Bilbo\, Bizkaia\, España;X-APPLE-RADIUS=72;X-TITLE=Euskalduna Jaureg
 ia:43.266915;-2.944521
END:VEVENT
END:VCALENDAR