BEGIN:VCALENDAR
VERSION:2.0
PRODID:Events Booking
BEGIN:VEVENT
UID:69e596642fb62
SUMMARY:WORKSHOP RELIEF ENGRAVING  Euskalduna Bilbao 6 Dic 9:00
DESCRIPTION:RELIEF ENGRAVING
 MYRIAM GESALAGA\, VICTOR RÍOS Y ELI AZURMEN
 DI
 Saturday December 6 – 9:00-11:45 Euskalduna Bilbao
 Monographic wo
 rkshop on relief engraving\, using linocut. Images of different mountains 
 will be addressed\, which will necessarily be synthesised using different 
 graphic resources (high-contrast drawing) for transfer to the linoleum sup
 port\, subsequent carving using gouges\, and finally\, printing on differe
 nt supports.  •    Group of 10-12 participants •    Ages 16 and 
 up •    4 hours: 2 hours of drawing and carving the linoleum matrix a
 nd 2 hours of printing 
 Myriam Gesalaga
 Professor and doctor in the E
 ngraving and Graphic Techniques Section of the Faculty of Fine Arts at the
  University of the Basque Country (UPV/EHU).  
 Victor Ríos
 Academic 
 in the Faculty of Arts and Design at the National Autonomous University of
  Mexico for 28 years in the Printing Department.  
 Eli Azurmendi
 Co-a
 uthor and coordinator of the Expo croquis project\, which includes the boo
 k 'El arte en el croquis de escalada-Art in climbing topos'\, the exhibiti
 on 'HARRI\, ORRI\, ARkatz' and the documentary of the same name.  
 
LOCATION:Abandoibarra Etorb.\, 4\, 48011 Bilbo\, Bizkaia\, España
DTSTART:20251206T080000Z
DTEND:20251206T104500Z
DTSTAMP:20251027T064916Z
ORGANIZER;CN=BBK Mendi Film Bilbao Bizkaia:MAILTO:organization@mendifilmfes
 tival.com
GEO:43.266915;-2.944521
X-APPLE-STRUCTURED-LOCATION;VALUE=URI;X-ADDRESS=Abandoibarra Etorb.\, 4\, 4
 8011 Bilbo\, Bizkaia\, España;X-APPLE-RADIUS=72;X-TITLE=Euskalduna Jaureg
 ia:43.266915;-2.944521
END:VEVENT
END:VCALENDAR