BEGIN:VCALENDAR
VERSION:2.0
PRODID:Events Booking
BEGIN:VEVENT
UID:69e905b587cfa
SUMMARY:MENDI TOUR URRETXU
DESCRIPTION:
LOCATION:Urretxu\, 20700 Euskadi\, España
DTSTART:20260523T130000Z
DTEND:20260523T140000Z
DTSTAMP:20260420T085506Z
ORGANIZER;CN=BBK Mendi Film Bilbao Bizkaia:MAILTO:organization@mendifilmfes
 tival.com
GEO:43.092083;-2.314349
X-APPLE-STRUCTURED-LOCATION;VALUE=URI;X-ADDRESS=Urretxu\, 20700 Euskadi\, E
 spaña;X-APPLE-RADIUS=72;X-TITLE=:43.092083;-2.314349
END:VEVENT
END:VCALENDAR