BEGIN:VCALENDAR
VERSION:2.0
PRODID:Events Booking
BEGIN:VEVENT
UID:69e5894485d31
SUMMARY:WORKSHOP ACUARELA EXPERIMENTAL DE MONTAÑA Y CROQUIS Euskalduna Bil
 bao 13 Dic 9:00
DESCRIPTION:ACUARELA EXPERIMENTAL DE MONTAÑA Y CROQUIS
 ELI AZURMENDI Y C
 HEMA AGUSTÍN
 Sábado 13 de diciembre – 9:00-11:45 Euskalduna Bilbao

  En este taller experimental de acuarelas pintaremos montañas y croquis e
 n acuarela\, aplicando diferentes técnicas como el transfer\, collage\, e
 tc... para terminar uniendo todos los dibujos y crear un libro acordeón. 
 Nos guiarán Eli Azurmendi y Chema Agustín.
 Eli Azurmendi
 Coautora y 
 coordinadora del proyecto Expocroquis que incluye el libro 'El arte en el 
 croquis de escalada-Art in clim bing topos'\, la exposición 'HARRI\, ORRI
 \, ARkatz' y el documental del mismo nombre. 
 Chema Agustín
 Artista 
 plástico\, montañero y escalador. Coautor de la guía de escalada Riglos
  Vertical\, autor del libro Riglorámico en donde investiga plásticamente
  los Mallos de Riglos\, diseña la baraja de póker internacional montañe
 ra Alpinist54\, e ilustra el libro Ordesa\, Naturaleza y cultura popular.
 
 
LOCATION:Abandoibarra Etorb.\, 4\, 48011 Bilbo\, Bizkaia\, España
DTSTART:20251213T080000Z
DTEND:20251213T104500Z
DTSTAMP:20251028T091540Z
ORGANIZER;CN=BBK Mendi Film Bilbao Bizkaia:MAILTO:organization@mendifilmfes
 tival.com
GEO:43.266915;-2.944521
X-APPLE-STRUCTURED-LOCATION;VALUE=URI;X-ADDRESS=Abandoibarra Etorb.\, 4\, 4
 8011 Bilbo\, Bizkaia\, España;X-APPLE-RADIUS=72;X-TITLE=Euskalduna Bilbao
 :43.266915;-2.944521
END:VEVENT
END:VCALENDAR