BEGIN:VCALENDAR
VERSION:2.0
PRODID:Events Booking
BEGIN:VEVENT
UID:69e5886a646d2
SUMMARY:WORKSHOP FABRICACIÓN DE GEMELOS DE MONTAÑA Euskalduna Bilbao 6 Di
 c 9:30
DESCRIPTION:FABRICACIÓN DE GEMELOS DE MONTAÑA. Inspirados en la cultura y
  el folclore de Podhale (Polonia) (en inglés)
 Sábado 6 de diciembre 
 – 9:30-11:30 Euskalduna Bilbao
 Los gemelos (spinki) son una parte esen
 cial del atuendo de un montañés: son cierres metálicos que se usan para
  abrochar las camisas\, y tienen una rica historia y significado cultural.
 En este taller práctico\, los participantes tendrán la oportunidad únic
 a de crear sus propios gemelos\, guiados por técnicas tradicionales e ins
 pirados en el folclore local de Podhale\, región meridional de Polonia\, 
 en las faldas de las montañas Tatra.Socios: Mendi Film y EMMOAProyecto co
 financiado por el Ministerio de Cultura y Patrimonio Nacional de Polonia e
 n el marco del Programa Cultura Inspiradora.•    Abierto a adultos y j
 óvenes•    Límite: 10 participantes
 
 
LOCATION:Abandoibarra Etorb.\, 4\, 48011 Bilbo\, Bizkaia\, España
DTSTART:20251206T083000Z
DTEND:20251206T103000Z
DTSTAMP:20251027T065955Z
ORGANIZER;CN=BBK Mendi Film Bilbao Bizkaia:MAILTO:organization@mendifilmfes
 tival.com
GEO:43.266915;-2.944521
X-APPLE-STRUCTURED-LOCATION;VALUE=URI;X-ADDRESS=Abandoibarra Etorb.\, 4\, 4
 8011 Bilbo\, Bizkaia\, España;X-APPLE-RADIUS=72;X-TITLE=Euskalduna Bilbao
 :43.266915;-2.944521
END:VEVENT
END:VCALENDAR