BEGIN:VCALENDAR
VERSION:2.0
PRODID:Events Booking
BEGIN:VEVENT
UID:69e588eb40f07
SUMMARY:WORKSHOP GRABADO EN RELIEVE Euskalduna Bilbao 6 Dic 9:00
DESCRIPTION:GRABADO EN RELIEVE
 MYRIAM GESALAGA\, VICTOR RÍOS Y ELI AZURM
 ENDI
 Sábado 6 de diciembre – 9:00-11:45 Euskalduna Bilbao
 Taller mo
 nográfico de grabado en relieve\, en linograbado. Se abordarán imágenes
  de diferentes montañas que necesariamente serán sintetizadas por difere
 ntes recursos gráficos (de dibujo de alto contraste) para su transferenci
 a al soporte de linóleo\, su posterior proceso de tallado mediante gubias
 \, y finalmente\, su estampación en diferentes soportes. •    Grupo 
 de 10-12 participantes•    Mayores de 16 años•    4 horas: 2 hora
 s de dibujo y tallado de la matriz de linóleo y dos horas de estampación
 
 Myriam Gesalaga
 Profesora doctora en la sección de grabado y técnic
 as gráficas de la Facultad de Bellas Artes de la UPV/EHU. 
 Victor Río
 s
 Académico en la Facultad de Artes y Diseño de la Universidad Naciona
 l Autónoma de México desde hace 28 años en el Área de Estampa. 
 Eli
  Azurmendi
 Coautora y coordinadora del proyecto Expocroquis que incluye 
 el libro 'El arte en el croquis de escalada-Art in clim bing topos'\, la e
 xposición 'HARRI\, ORRI\, ARkatz' y el documental del mismo nombre. 
 
LOCATION:Abandoibarra Etorb.\, 4\, 48011 Bilbo\, Bizkaia\, España
DTSTART:20251206T080000Z
DTEND:20251206T104500Z
DTSTAMP:20251027T064916Z
ORGANIZER;CN=BBK Mendi Film Bilbao Bizkaia:MAILTO:organization@mendifilmfes
 tival.com
GEO:43.266915;-2.944521
X-APPLE-STRUCTURED-LOCATION;VALUE=URI;X-ADDRESS=Abandoibarra Etorb.\, 4\, 4
 8011 Bilbo\, Bizkaia\, España;X-APPLE-RADIUS=72;X-TITLE=Euskalduna Bilbao
 :43.266915;-2.944521
END:VEVENT
END:VCALENDAR