BEGIN:VCALENDAR
VERSION:2.0
PRODID:Events Booking
BEGIN:VEVENT
UID:69e588bdd99da
SUMMARY:WORKSHOP LESIONES EN ESCALADA Euskalduna Bilbao 6 Dic 9:30
DESCRIPTION:LESIONES DE ESCALADA. Síntomas\, tratamiento y prevención
 A
 NDONI ORMAZABAL
 Sábado 6 de diciembre – 9:30-11:30 Euskalduna Bilbao
 
 Esta es una charla que aborda las lesiones más frecuentes en la prácti
 ca de la escalada desde un enfoque divulgativo y ameno. Tiene una duració
 n de 2 horas incluyendo algunas demostraciones prácticas de vendajes y de
  ejercicios específicos.
 Andoni Ormazabal (Urretxu\, 1978)Es Fisioterap
 euta\, con master en fisioterapia deportiva y osteopatía y medicina tradi
 cional china. Tiene más de 25 años de experiencia clínica\, los último
 s 20 centrados en las lesiones específicas provocadas por la práctica de
  la escalada y montaña. Es fisioterapeuta de la EMF (federación vasca de
  montaña) y FEDME (federación española de montaña y alpinismo). Ha imp
 artido muchas formaciones para los equipos de escalada y de alpinismo\, as
 í como a fisioterapeutas\, y ha participado en congresos y otro tipo de f
 ormaciones como ponente.
 
LOCATION:Abandoibarra Etorb.\, 4\, 48011 Bilbo\, Bizkaia\, España
DTSTART:20251206T083000Z
DTEND:20251206T103000Z
DTSTAMP:20251027T070728Z
ORGANIZER;CN=BBK Mendi Film Bilbao Bizkaia:MAILTO:organization@mendifilmfes
 tival.com
GEO:43.266915;-2.944521
X-APPLE-STRUCTURED-LOCATION;VALUE=URI;X-ADDRESS=Abandoibarra Etorb.\, 4\, 4
 8011 Bilbo\, Bizkaia\, España;X-APPLE-RADIUS=72;X-TITLE=Euskalduna Bilbao
 :43.266915;-2.944521
END:VEVENT
END:VCALENDAR