BEGIN:VCALENDAR
VERSION:2.0
PRODID:Events Booking
BEGIN:VEVENT
UID:69e7323b79b8d
SUMMARY:MENDI TOUR MARKINA - XEMEIN
DESCRIPTION:
LOCATION:Av. Xemein\, 10\, 48270 Marquina-Jeméin\, Vizcaya
DTSTART:20251026T173000Z
DTEND:20251026T193000Z
DTSTAMP:20260421T081555Z
ORGANIZER;CN=BBK Mendi Film Bilbao Bizkaia:MAILTO:organization@mendifilmfes
 tival.com
GEO:43.300818;-2.203836
X-APPLE-STRUCTURED-LOCATION;VALUE=URI;X-ADDRESS=Av. Xemein\, 10\, 48270 Mar
 quina-Jeméin\, Vizcaya;X-APPLE-RADIUS=72;X-TITLE=Markina - Xemein Kultur 
 Aretoa:43.300818;-2.203836
END:VEVENT
END:VCALENDAR