BEGIN:VCALENDAR
VERSION:2.0
PRODID:Events Booking
BEGIN:VEVENT
UID:69e76a5d6bfb5
SUMMARY:MENDI TOUR OÑATI
DESCRIPTION:
LOCATION:Santa Marina Plaza
DTSTART:20251113T183000Z
DTEND:20251113T203000Z
DTSTAMP:20260421T121525Z
ORGANIZER;CN=BBK Mendi Film Bilbao Bizkaia:MAILTO:organization@mendifilmfes
 tival.com
GEO:43.032766;-2.411111
X-APPLE-STRUCTURED-LOCATION;VALUE=URI;X-ADDRESS=Santa Marina Plaza;X-APPLE-
 RADIUS=72;X-TITLE=Oñati Zinema Aretoa:43.032766;-2.411111
END:VEVENT
END:VCALENDAR