BEGIN:VCALENDAR
VERSION:2.0
PRODID:Events Booking
BEGIN:VEVENT
UID:69e91368449a6
SUMMARY:MENDI TOUR ZALDIBAR
DESCRIPTION:
LOCATION:Euskal Herria Etorbidea\, 5\, 48250 Zaldibar\, Bizkaia\, España
DTSTART:20260416T163000Z
DTEND:20260416T183000Z
DTSTAMP:20260422T182856Z
ORGANIZER;CN=BBK Mendi Film Bilbao Bizkaia:MAILTO:organization@mendifilmfes
 tival.com
GEO:43.170739;-2.544905
X-APPLE-STRUCTURED-LOCATION;VALUE=URI;X-ADDRESS=Euskal Herria Etorbidea\, 5
 \, 48250 Zaldibar\, Bizkaia\, España;X-APPLE-RADIUS=72;X-TITLE=Zaldibar\,
  Liburutegi Zaharra:43.170739;-2.544905
END:VEVENT
END:VCALENDAR